Workbook

Sheet ChangeLog
A1: BH | B1: 43448 | C1: AtlasTakeoff | D1: Created ATLAS csv takeoff sheet (hidden in final version)
A2: BH | B2: 43448 | C2: Data Capture Sheet | D2: Pre-populated units as "TONNES" (all caps) to assist ATLAS integration
A3: BH | B3: 43448 | C3: Data Capture Sheet | D3: Added column asking f waste sent to each destination
A4: BH | B4: 43451 | C4: Data Capture Sheet | D4: Added some data validation
A5: BH | B5: 43451 | C5: Data Capture Sheet | D5: Added email contact box to company information
A6: BH | B6: 43451 | C6: Data Capture Sheet | D6: Split out Atlas submission questions
A7: BH | B7: 43476 | C7: C25_takeoff | D7: Added C25 csv takeoff sheet (hidden)

Sheet Data Capture Sheet
A2: Food Surplus and Waste Data Capture Sheet
A4: PLEASE REFER TO SUPPORTING GUIDANCE TABS FOR DEFINITIONS AND CLARIFICATIONS ON WHAT TO REPORT
A5: Information entered into this sheet will automatically pre-populate the Reporting Template tab, which can be pasted into a Word document if needed
A7: Company Information
A9: Company name | C9: [Text]
A10: Name of person submitting this datasheet | C10: [Text]
A11: Contact email of person completing this report | C11: [Text]
A12: Submission date | C12: [Date]
A14: Scope of the Food Surplus and Waste Inventory
A16: Start date of inventory period (12 month period required) | C16: [Date]
A17: End date of inventory period (12 month period required) | C17: [Date]
A18: Material type included: | C18: All food and associated inedible parts included in the inventory
A19: Geography covered: | C19: UK
A20: Business sector / food category covered: | C20: [Text] - e.g. based on company's SIC classification
A21: Lifecycle stage (business operations included): | C21: [Text]
A22: Number of sites / facilities covered: | C22: [Number]
A23: Is packaging weight excluded from the values below? | C23: Please select from drop-down menu
A24: (If reporting on farm-level operations) - are losses of crops not yet ready for harvest excluded from the values below? | C24: Please select from drop-down menu
A26: Data Summary
A28: Sum of food waste sent to the following destinations | B28: Do you send food waste to this destination? | C28: Quantity | D28: Units* | E28: Notes
A29: Anaerobic digestion / codigestion | D29: TONNES
A30: Composting / aerobic processes | D30: TONNES
A31: Incineration / controlled combustion | D31: TONNES
A32: Land application | D32: TONNES
A33: Landfill | D33: TONNES
A34: Sewer / wastewater treatment | D34: TONNES
A35: Not harvested / ploughed in | D35: TONNES
A36: Other (including dumping or unmanaged disposal) | D36: TONNES
A37: Not known (if destinations are known but not how much to each destination, please specify in notes) | D37: TONNES
A38: Total food waste | C38: =SUM(C29:C37) -> 0
A40: Food waste as a % of the product and ingredient handled by your organisation** | D40: % | E40: Please describe assumptions made and/or guidance referred to
A41: OPTIONAL: what proportion is estimated to be ‘inedible parts’ | D41: % | E41: Please describe assumptions made and/or guidance referred to
A42: * Tonnes - unless otherwise specified (e.g. the Dairy Processing Sector Guidance recommends reporting in both tonnes AND milk-equivalents). If reporting values in a different unit (e.g. milk equivalents), please report both vales (e.g. tonnes and milk equivalents) in the notes column and clarify the conversion approach used
A43: ** This should be tonnes food waste ÷ tonnes (food product produced or sold as intended + food waste + food sent to other destinations)]. If food tonnes cannot be measured, provide an alternative metric, such as % by value, and explain the method used.
A45: Sum of material sent to other destinations | B45: Do you send material to this destination? | C45: Quantity | D45: Units | E45: Notes
A46: Redistribution for human consumption* | D46: TONNES
A47: Sent for animal feed | D47: TONNES
A48: Bio based materials / biochemical processing | D48: TONNES
A49: Not known (if destinations are known but not how much to each destination, please specify in notes) | D49: TONNES
A50: * It is important only to include here food that would have become waste if it had not been redistributed. Other donations to charities or sale to secondary markets should be excluded
A52: Quantification Methods & Uncertainty
A54: Guidance documents, or published data sources referred to when compiling your inventory | C54: [Text] - please list (e.g. WRAP sector-specific guidance) and provide weblinks
A55: Accounting for water addition / removal | C55: [Text] - if relevant - please describe how water addition/removal has been accounted for in your inventory
A56: Sampling & scaling of data, or other means of gap filling | C56: [Text] - please describe the approaches used
A57: Summary of any significant exclusions within this data set | C57: [Text] - please list any exclusions from the inventory.
A58: Summary of reasons for data exclusions | C58: [Text] - please give reasons for any exclusions from the inventory.
A59: HaFS ONLY - Number of sites with split data available (e.g. Preparation, Spoilage, Plate, Overproduction / Buffet) | C59: [Number]
A60: HaFS ONLY - Number of sites with no waste collection data? | C60: [Number]
A61: HaFS ONLY - Methodology for gap filling | C61: [Text]
A62: Summary of data uncertainties | C62: [Text]- please provide a qualitative description and/or quantitative assessment of the uncertainty around food surplus and waste inventory results.
A64: OPTIONAL : Narrative
A66: Use this section to describe:
A67: Your food waste hotspots (e.g. compositional split of food waste tonnage by key product category) | C67: [Text]
A68: Actions that you are taking to reduce your operational food waste | C68: [Text]
A69: Progress to date in reducing food waste and any factors (e.g. changes in supply & demand) that have significantly affected your results | C69: [Text]
A70: Actions that you are taking to work in partnership with suppliers to reduce food waste | C70: [Text] - e.g. number of whole chain Food Waste Reduction Plans in place*
A71: How you have engaged consumers to reduce food waste | C71: [Text] - e.g. adopting known best practices for food date labelling and storage advice; helping test new innovations; awareness raising*
C72: * See the Food Waste Reduction Roadmap Toolkit for a checklist of what should be included in a good Whole Chain Food Waste Reduction plan and a checklist of key actions for businesses to help reduce consumer food waste
A73: Data upload to the Food Loss and Waste Atlas
A74: Please select one of the following options using the drop down menu [use the "Select" option for the option you wish to choose]
A76: I give permission to allow the data submitted through this document to be included on the Food Loss and Waste Atlas* including your company name
A77: I give permission to allow the data submitted through this document to be included on the Food Loss and Waste Atlas* anonymously (i.e. with your company name removed).
A78: I do not give permission for any data submitted through this document to be included on the Food Loss and Waste Atlas
A79: *For more information on the Food Loss and Waste Atlas please visit: www.thefoodwasteatlas.org
A81: Assurance & Declaration
A83: Has this inventory been formally audited, 3rd party reviewed or subject to any internal data checking procedures? | C83: Please select from drop-down menu
A84: If yes, please provide an assurance statement: | C84: [Text] - If possible, please provide an assurance statement]
A85: Please confirm that this report is based on the FLWS principles of Relevance, Completeness, Consistency, Transparency, and Accuracy? | C85: Please select from drop-down menu

Sheet Guidance
C2: Supporting guidance for Data Capture Sheet
C4: This Data Capture Sheet supports UK industry principles to Target, Measure and Act on food waste in support of UN Sustainable Development Goal 12.3, and complies with the international Food Loss & Waste Standard (http://flwprotocol.org/). Sector-specific guidance on quantification methods that will help you complete this template are available via the links provided. This Data Capture Sheet is intended for common use by UK food businesses and is supported by the UK’s leading food & drink retailers.
C8: Company Information
C9: Please provide the information indicated
C11: Scope of the Food Surplus and Waste Inventory
C13: Timeframe
C14: · In the Data Capture Sheet record the time period the data refers to (start/end date).
C15: · Report data for a 12 month period.
C16: · Either calendar or fiscal year is acceptable – or as appropriate for your business. Calendar year is preferred where possible
C18: Material types to include
C19: · Include both ‘food’ and the associated ‘inedible parts’. (see Definitions tab)
C20: · If ‘inedible parts’ can be reliably seperately estimated, it may be meaningful for some businesses to do - e.g. to help with setting a food waste prevention target. This is optional.
... C72: In describing your methods, please include the following information in the Data Capture Sheet
C74: Guidance documents, or published data sources referred to when compiling your inventory | E74: For example - this could include WRAP's Sector Guidance, which outlines key method choices
C76: Accounting for water addition/removal | E76: If water is added (e.g. for cleaning purposes) or removed (e.g. if using a dehydrator) from the food waste: the FLW Standards advises accounting for the weight of material that reflects the state in which it was generated before water was added or removed. In the Food Waste Reporting Template please state how you have accounted for water addition/removal. Further recommendations for dairy processing are included in WRAP’s Dairy Processing Sector Guidance.
C78: Sampling & scaling of data, or other means of gap filling | E78: Please describe the approaches used
C80: Summary of any significant exclusions within this data set | E80: Please explain any exclusions from the inventory.
C82: Summary of reasons for data exclusions | E82: Please provide a short description of reasons for exclusions
C84: HaFS ONLY - Number of sites with split data available | E84: e.g. Preparation, Spoilage, Plate, Overproduction / Buffet
C85: HaFS ONLY - Number of sites with no waste collection data? | E85: See HaFS sector guidance for further guidance on food waste measurement
C86: HaFS ONLY - Methodology for gap filling | E86: See HaFS sector guidance for further guidance on food waste measurement
C88: Summary of data uncertainties | E88: Please provide a qualitative description and/or quantitative assessment of the uncertainty around Food Waste inventory results.
C90: Do keep in mind that you don't need a completely accurate number to get started with quantifying the amount of your food waste. Further guidance on quantification methods is included in the box below.
C93: Data Collection Methods
C94: There are two main ways to collect data. You use one or both of these approaches.
C96: 1. Gather and evaluate existing data and/or records, and/or
C97: 2. Where existing data is of poor quality or not available, undertake a new calculation
C99: For existing data and/or records:
C101: · Available data sources include waste collection receipts, weighbridge tickets, inputs/outputs of materials. For the amount of surplus food donated, ask food collection agencies for data.
C102: · Assess if the existing data fits the scope of your inventory (e.g. is it for 12 months, what material types and destinations are represented)
C103: · Assess if the data is reliable enough to be used (for guidance on evaluating uncertainty, see Chapter 9 in the FLW Standard)
C104: · Develop estimates if need be. For example, in order to calculate food waste by destination, if the food waste is included in mixed waste streams, one option is to use estimates to separate food waste from the other waste (e.g., apply the average fraction of food waste to the total waste to landfill data). Where material is already collected separately (e.g., surplus food to animal feed, food waste to co/anaerobic digestion, compost/aerobic processes, or land application), you should be able to use the data “as is”
C106: If you need to undertake a new calculation of food waste, you can measure, approximate, or infer it by calculation. Chapter 7 in the FLW Standard provides guidance on the various options; moreover, the FLW Protocol provides guidance on a range of commonly used methods for quantifying food waste in the stand-alone Guidance on FLW Quantification Methods.
C108: Related Resources
... C130: Please also confirm that this report is based on the FLWS principles of Relevance, Completeness, Consistency, Transparency, and Accuracy.

Sheet Definitions
B2: Definitions
B4: Food | C4: Any substance that is – or was at some point – intended for human consumption. This includes both food and drink. This includes material that has spoiled and is therefore no longer fit for human consumption (i.e. would be regarded as no longer edible, for example due to it passing a ‘use by’ date or being spoiled). It does not include cosmetics, tobacco, or substances used only as drugs. It does not include processing agents used along the food supply chain, for example, water to clean or cook raw materials in factories or at home.
B5: Inedible Parts | C5: Components associated with a food that would never have been intended to be consumed by humans – such as shells, bones, pits/stones. ‘Inedible parts’ do not include packaging, or food that could once have been eaten but has been spoiled or passed its ‘use by’ date.
C6: For some businesses, it may be helpful to separately quantify ‘inedible parts’ and ‘food’ (e.g. when developing a meaningful food waste reduction target), as opportunities to reduce or redirect the inedible parts to higher value options may be limited.
C7: What is considered ‘inedible parts’ can vary in different supply chains and geographies. To enable some consistency for UK businesses, industry stakeholders have agreed specific definitions of ‘inedible parts’ for relevant products. These are available in the following sector guidelines: Meat Processing Sector Guidance; and Fresh Produce Sector Guidance.
B8: Food waste | C8: For the purposes of these UK Recommendations, the term ‘Food Waste’ describes any food and inedible parts sent to any of the Food Waste Destinations listed below. This definition excludes any material that is sent for redistribution to people, animal feed or, conversion into industrial products (collectively referred to as ‘food surplus’).
B9: Food surplus | C9: For the purposes of these UK Recommendations, the term ‘Food Surplus’ describes any food and inedible parts that are sent to the following: • Redistribution to people (e.g. through a charity or commercial redistributor) • Animal feed • Bio-based materials / biochemical processing (e.g. feedstock for other industrial products)
B10: FOOD WASTE DESTINATIONS
B11: Anaerobic digestion/ Codigestion | C11: Breaking down material via bacteria in the absence of oxygen. This process generates biogas and nutrient-rich matter that can be used as fertiliser. Codigestion refers to the simultaneous anaerobic digestion of food waste and other organic material in one digester. This destination includes fermentation (converting carbohydrates—such as glucose, fructose, and sucrose—via microbes into alcohols in the absence of oxygen to create products such as biogas). All food materials sent to anaerobic digestion / codigestion should be quantified and recorded.
B12: Composting/ aerobic processes | C12: Breaking down material via bacteria in oxygen-rich environments. Composting refers to the production of organic material (via aerobic processes) that can be used as a soil amendment
B13: Incineration/ controlled combustion | C13: Sending material to a facility that is specifically designed for combustion in a controlled manner, which may include some form of energy recovery
B14: Land application | C14: Spreading, spraying, injecting, or incorporating organic material onto or below the surface of the land to enhance soil quality
B15: Landfill | C15: Sending material to an area of land or an excavated site that is specifically designed and built to receive wastes
B16: Sewer/ wastewater treatment | C16: Sending material down the sewer (with or without prior treatment), including that which may go to a facility designed to treat wastewater
B17: Not harvested/ ploughed-in | C17: Leaving crops that were ready for harvest in the field or tilling them into the soil
B18: Other (including unmanaged disposal) | C18: Sending material to a destination that is different from those listed above. It might include material included with the ‘Refuse/discards/litter’ destination defined in the FLW Standard – which encompasses open dumps (i.e. uncovered, unlined), open burn (i.e. not in a controlled facility), and fish discards. If including this destination in your inventory you should describe what in includes in supporting notes.
B19: OTHER DESTINATIONS
B20: Redistribution of food surplus | C20: In the context of waste prevention, only include redistributed surplus food where the food would otherwise have ended up as waste, or would have been sent to one of the other destinations below. This may include food redistributed by both charitable organisations (such as FareShare, Food Cycle) and commercial ones (such as Company Shop, who also operate Community Shop). Where surplus is sold, explain why this qualifies as waste prevention.
B21: Animal feed | C21: Diverting food and/or inedible parts, directly or after processing, to animals
B22: Bio-based materials / biochemical processing | C22: This refers to destinations in which food and/or inedible parts are ‘valorized’ by conversion into Industrial Products. Examples include creating fibres for packaging material, creating bioplastics (e.g. polylactic acid), rendering into a raw material to make products such as soaps or cosmetics. If material is sent to this destination and accounted as ‘surplus’, rather than ‘food waste’, businesses should undertake due diligence with the recipient of the material to ensure that valorization into other industrial products occurs, as intended (e.g. producing saleable products for chemicals, packaging markets, saleable biodiesel, etc.)

Sheet Reporting Template
B2: Food surplus and
B3: waste reporting template
B5: Company name: | C5: ='Data Capture Sheet'!C9 -> [Text]
B6: Name of person completing the report: | C6: ='Data Capture Sheet'!C10 -> [Text]
B7: Date completed: | C7: ='Data Capture Sheet'!C12 -> [Date]
B8: Summary
B9: Reporting period (start date): | C9: ='Data Capture Sheet'!C16 -> [Date]
B10: Reporting period (end date): | C10: ='Data Capture Sheet'!C17 -> [Date]
B11: Overall food waste in tonnes: | D11: ='Data Capture Sheet'!C38 -> 0
B12: Food waste as a % of the product and ingredient handled by your organisation*: | D12: ='Data Capture Sheet'!C40 -> 0
B13: (Optional) Percentage of inedible parts included in total food waste tonnage: | D13: ='Data Capture Sheet'!C41 -> 0
B14: * this should be tonnes food waste ÷ tonnes (food product produced or sold as intended + food waste + food sent to other destinations).
B15: If food tonnes cannot be measured, provide an alternative metric, such as % by value, and explain the method used.
B18: Destinations for food waste (tonnes or %)*: | C18: Quantity | D18: Unit
B19: Anaerobic digestion / co-digestion | C19: ='Data Capture Sheet'!C29 -> 0 | D19: ='Data Capture Sheet'!D29 -> TONNES
B20: Composting / aerobic processes | C20: ='Data Capture Sheet'!C30 -> 0 | D20: ='Data Capture Sheet'!D30 -> TONNES
B21: Incineration / controlled combustion | C21: ='Data Capture Sheet'!C31 -> 0 | D21: ='Data Capture Sheet'!D31 -> TONNES
B22: Land application | C22: ='Data Capture Sheet'!C32 -> 0 | D22: ='Data Capture Sheet'!D32 -> TONNES
B23: Landfill | C23: ='Data Capture Sheet'!C33 -> 0 | D23: ='Data Capture Sheet'!D33 -> TONNES
B24: Sewer / wastewater treatment | C24: ='Data Capture Sheet'!C34 -> 0 | D24: ='Data Capture Sheet'!D34 -> TONNES
B25: Not harvested / ploughed in | C25: ='Data Capture Sheet'!C35 -> 0 | D25: ='Data Capture Sheet'!D35 -> TONNES
B26: Other (including unmanaged disposal) | C26: ='Data Capture Sheet'!C36 -> 0 | D26: ='Data Capture Sheet'!D36 -> TONNES
B27: Not known | C27: ='Data Capture Sheet'!C37 -> 0 | D27: ='Data Capture Sheet'!D37 -> TONNES
B28: * NB – the Dairy Processing Sector Guidance recommends reporting in both tonnes AND milk-equivalent
B30: Other destinations (tonnes): | C30: Quantity | D30: Unit
B31: Redistribution for human consumption* | C31: ='Data Capture Sheet'!C46 -> 0 | D31: ='Data Capture Sheet'!D46 -> TONNES
B32: Animal feed | C32: ='Data Capture Sheet'!C47 -> 0 | D32: ='Data Capture Sheet'!D47 -> TONNES
B33: Bio-based materials / biochemical processing | C33: ='Data Capture Sheet'!C48 -> 0 | D33: ='Data Capture Sheet'!D48 -> TONNES
B34: Not known | C34: ='Data Capture Sheet'!C49 -> 0 | D34: ='Data Capture Sheet'!D49 -> TONNES
B35: * It is important only to include here food that would have become waste if it had not been redistributed. Other donations to charities or sale to secondary markets should be excluded
B38: Scope of the food waste inventory
B39: Insert your scope diagram. A template is available here
B44: Quantification methods and uncertainty
B45: Guidance documents, or published data sources referred to:
B46: ='Data Capture Sheet'!C54 -> [Text] - please list (e.g. WRAP sector-specific guidance) and provide weblinks
B48: Accounting for water addition / removal:
B49: ='Data Capture Sheet'!C55 -> [Text] - if relevant - please describe how water addition/removal has been accounted for in your inventory
B51: Sampling & scaling of data, or other means of gap filling:
B52: ='Data Capture Sheet'!C56 -> [Text] - please describe the approaches used
B54: Summary of any significant exclusions within this data set:
B55: ='Data Capture Sheet'!C57 -> [Text] - please list any exclusions from the inventory.
B57: Summary of reasons for data exclusions:
B58: ='Data Capture Sheet'!C58 -> [Text] - please give reasons for any exclusions from the inventory.
B60: Summary of data uncertainties
B61: ='Data Capture Sheet'!C62 -> [Text]- please provide a qualitative description and/or quantitative assessment of the uncertainty around food surplus and waste inventory results.
B63: Assurance and declaration
B64: Has this inventory been formally audited, 3rd party reviewed or subject to any internal data checking procedures?
B65: ='Data Capture Sheet'!C83 -> Please select from drop-down menu
B67: Assurance statement:
B68: ='Data Capture Sheet'!C84 -> [Text] - If possible, please provide an assurance statement]
B70: Narrative (optional)
B71: Food waste hotspots
B72: ='Data Capture Sheet'!C67 -> [Text]
B74: Actions to reduce your operational food waste
B75: ='Data Capture Sheet'!C68 -> [Text]
B77: Progress to date in reducing food waste and any factors significantly affecting results
B78: ='Data Capture Sheet'!C69 -> [Text]
B80: Actions to work in partnership with suppliers to reduce food waste
B81: ='Data Capture Sheet'!C70 -> [Text] - e.g. number of whole chain Food Waste Reduction Plans in place*
B83: Actions to help reduce consumer food waste
B84: ='Data Capture Sheet'!C71 -> [Text] - e.g. adopting known best practices for food date labelling and storage advice; helping test new innovations; awareness raising*

Sheet AtlasTakeoff
AC1: Food Waste | AV1: Inventory | BB1: Exclusions
AC2: Boundary | AL2: Destinations
G3: Entity | K3: Source | O3: Food Loss Data (Total food waste) | U3: Food Data (i.e. Contextual data: e.g. amount of food that goes on the market) | AG3: Location
A4: ID | B4: Creation Date | C4: Report Date Start | D4: Report Date End | E4: Aggregation Time Scale | F4: Link | G4: Name | H4: Contact | I4: Email | J4: Number | K4: Name | L4: Contact | M4: Email | N4: Number | O4: Total Weight | P4: Food Weight | Q4: Inedible Weight | R4: Weight Measure | S4: Value | T4: Currency | U4: Total Weight | V4: Food Weight | W4: Inedible Weight | X4: Weight Measure | Y4: Value | Z4: Currency | AA4: Covers | AB4: Turnover | AC4: Food Category System | AD4: Food Category | AE4: Food Description | AF4: Lifecycle Stage | AG4: Continent | AH4: Country | AI4: Region | AJ4: City | AK4: Organisation | AL4: Destination Name | AM4: Scope | AN4: Weight | AO4: Weight Measure | AP4: Valorized | AQ4: Valorized Weight | AR4: Non Valorized Weight | AS4: Energy Recovered | AT4: Solid Material Recovered | AU4: Liquid Recovered | AV4: Lifecycle Stage | AW4: GSFA Code | AX4: Food Only | AY4: Inedible Only | AZ4: Value | BA4: Currency | BB4: Packaging | BC4: Preharvest Losses | BD4: Flw as Generated | BE4: (Optional) Notes
A5: # | B5: date | C5: report date start | D5: report date end | E5: e.g. ANNUAL | F5: url link | G5: entity name | H5: contact name | I5: email | J5: Tel. number | K5: entity name | L5: contact name | M5: email | N5: number | O5: Weight/ or % value | P5: Weight/ or % measure | Q5: Weight/ or % measure | R5: e.g. TONNES | S5: Financial | T5: USD/% | U5: Weight/ or % value | V5: Weight/ or % value | W5: Weight/ or % value | X5: e.g. TONNES | Y5: Financial | Z5: USD | AA5: covers | AB5: turnover | AC5: e.g. GFSA | AD5: Number | AE5: e.g. Maize | AF5: manufacture | AI5: California | AK5: entire company | AL5: e.g. animal feed | AM5: TRUE | AN5: Weight | AO5: e.g. TONNES | AP5: TRUE | AQ5: Weight | AR5: Weight | AS5: TRUE | AT5: TRUE | AU5: TRUE | BB5: TRUE | BC5: TRUE | BD5: TRUE
A6: Manually input | B6: ='Data Capture Sheet'!C12 -> [Date] | C6: ='Data Capture Sheet'!C16 -> [Date] | D6: ='Data Capture Sheet'!C17 -> [Date] | E6: ANNUAL | G6: ='Data Capture Sheet'!C9 -> [Text] | H6: ='Data Capture Sheet'!C10 -> [Text] | I6: ='Data Capture Sheet'!C11 -> [Text] | J6: Not captured | K6: =G6 -> [Text] | L6: =H6 -> [Text] | M6: =I6 -> [Text] | N6: Not captured | O6: ='Data Capture Sheet'!C38 -> 0 | Q6: ='Data Capture Sheet'!C41 -> 0 | R6: TONNES | S6: Not captured | T6: Not captured | U6: ='Data Capture Sheet'!C40 -> 0 | V6: Not Captured | W6: Not captured | X6: TONNES | Y6: Not captured | Z6: Not captured | AA6: Not captured | AB6: Not captured | AC6: Not captured | AD6: Not captured | AE6: ='Data Capture Sheet'!C18 -> All food and associated inedible parts included in the inventory | AF6: ='Data Capture Sheet'!C21 -> [Text] | AG6: EU | AH6: GB | AL6: Anaerobic digestion / co-digestion | AM6: =IF('Data Capture Sheet'!B29="Yes", TRUE, FALSE) -> FALSE | AN6: ='Data Capture Sheet'!C29 -> 0 | AO6: ='Data Capture Sheet'!D29 -> TONNES | BE6: Manual field based on other information
AL7: Composting / aerobic processes | AM7: =IF('Data Capture Sheet'!B30="Yes", TRUE, FALSE) -> FALSE | AN7: ='Data Capture Sheet'!C30 -> 0 | AO7: ='Data Capture Sheet'!D30 -> TONNES
AL8: Incineration / controlled combustion | AM8: =IF('Data Capture Sheet'!B31="Yes", TRUE, FALSE) -> FALSE | AN8: ='Data Capture Sheet'!C31 -> 0 | AO8: ='Data Capture Sheet'!D31 -> TONNES
AL9: Land application | AM9: =IF('Data Capture Sheet'!B32="Yes", TRUE, FALSE) -> FALSE | AN9: ='Data Capture Sheet'!C32 -> 0 | AO9: ='Data Capture Sheet'!D32 -> TONNES
AL10: Landfill | AM10: =IF('Data Capture Sheet'!B33="Yes", TRUE, FALSE) -> FALSE | AN10: ='Data Capture Sheet'!C33 -> 0 | AO10: ='Data Capture Sheet'!D33 -> TONNES
AL11: Sewer / wastewater treatment | AM11: =IF('Data Capture Sheet'!B34="Yes", TRUE, FALSE) -> FALSE | AN11: ='Data Capture Sheet'!C34 -> 0 | AO11: ='Data Capture Sheet'!D34 -> TONNES
AL12: Not harvested / ploughed in | AM12: =IF('Data Capture Sheet'!B35="Yes", TRUE, FALSE) -> FALSE | AN12: ='Data Capture Sheet'!C35 -> 0 | AO12: ='Data Capture Sheet'!D35 -> TONNES
AL13: Other (including unmanaged disposal) | AM13: =IF('Data Capture Sheet'!B36="Yes", TRUE, FALSE) -> FALSE | AN13: ='Data Capture Sheet'!C36 -> 0 | AO13: ='Data Capture Sheet'!D36 -> TONNES
AL14: Waste - destination not known | AM14: =IF('Data Capture Sheet'!B37="Yes", TRUE, FALSE) -> FALSE | AN14: ='Data Capture Sheet'!C37 -> 0 | AO14: ='Data Capture Sheet'!D37 -> TONNES
AL15: Redistribution for human consumption | AM15: =IF('Data Capture Sheet'!B46="Yes", TRUE, FALSE) -> FALSE | AN15: ='Data Capture Sheet'!C46 -> 0 | AO15: ='Data Capture Sheet'!D46 -> TONNES
AL16: Animal feed | AM16: =IF('Data Capture Sheet'!B47="Yes", TRUE, FALSE) -> FALSE | AN16: ='Data Capture Sheet'!C47 -> 0 | AO16: ='Data Capture Sheet'!D47 -> TONNES
AL17: Bio-based materials / biochemical processing | AM17: =IF('Data Capture Sheet'!B48="Yes", TRUE, FALSE) -> FALSE | AN17: ='Data Capture Sheet'!C48 -> 0 | AO17: ='Data Capture Sheet'!D48 -> TONNES
AL18: Other - not known | AM18: =IF('Data Capture Sheet'!B49="Yes", TRUE, FALSE) -> FALSE | AN18: ='Data Capture Sheet'!C49 -> 0 | AO18: ='Data Capture Sheet'!D49 -> TONNES

Sheet csv_export
A1: signatory | B1: sigtype | C1: completed | D1: year | E1: context.Turnover | F1: context.Tonnes | G1: context.England | H1: context.Scotland | I1: context.NI | J1: context.Wales | K1: food.Waste | L1: food.Charity | M1: food.Commercial | N1: food.Animal | O1: food.Other | P1: food.England | Q1: food.Scotland | R1: food.Wales | S1: food.NI | T1: management.AD | U1: management.Compost | V1: management.Landspread | W1: management.Rendering | X1: management.EFW | Y1: management.Incineration | Z1: management.Landfill | AA1: management.Other | AB1: management.Sewer | AC1: primary.Paper | AD1: primary.Cardboard | AE1: primary.Glass | AF1: primary.Steel | AG1: primary.Alu | AH1: primary.Plastics | AI1: primary.Other | AJ1: sut.Paper | AK1: sut.Cardboard | AL1: sut.Glass | AM1: sut.Steel | AN1: sut.Alu | AO1: sut.Plastics | AP1: sut.Other | AQ1: edible.Parts
A2: ='Data Capture Sheet'!C9 -> [Text] | B2: ='Data Capture Sheet'!C20 -> [Text] - e.g. based on company's SIC classification | C2: ='Data Capture Sheet'!C12 -> [Date] | K2: ='Data Capture Sheet'!C38 -> 0 | N2: ='Data Capture Sheet'!C47 -> 0 | O2: =SUM('Data Capture Sheet'!C48:C49) -> 0 | T2: ='Data Capture Sheet'!C29 -> 0 | U2: ='Data Capture Sheet'!C30 -> 0 | V2: ='Data Capture Sheet'!C32 -> 0 | X2: ='Data Capture Sheet'!C31 -> 0 | Z2: ='Data Capture Sheet'!C33 -> 0 | AA2: =SUM('Data Capture Sheet'!C36:C37) -> 0 | AB2: ='Data Capture Sheet'!C34 -> 0 | AQ2: ='Data Capture Sheet'!C38*'Data Capture Sheet'!C41 -> 0
